BEGIN:VCALENDAR
VERSION:2.0
METHOD:PUBLISH
CALSCALE:GREGORIAN
BEGIN:VEVENT
UID:238f844b-498f-42d3-b546-d493f76b1be1
SEQUENCE:0
CLASS:PUBLIC
PRIORITY:5
DTSTAMP:20260424T162119Z
CREATED:20260424T162119Z
DTSTART:20260429T110000Z
SUMMARY:Une messe sera célébrée de Éric PLISSONNEAU
LOCATION:En l'église Notre-Dame d'Espérance - 2 Av Léon Jouhaux-, 44600, Saint-Nazaire
BEGIN:VALARM
TRIGGER:-PT30M
ACTION:DISPLAY
DESCRIPTION:Reminder
END:VALARM
END:VEVENT
END:VCALENDAR
