BEGIN:VCALENDAR
VERSION:2.0
METHOD:PUBLISH
CALSCALE:GREGORIAN
BEGIN:VEVENT
UID:c5c46f54-e484-4c88-8192-9cb6a2822dc4
SEQUENCE:0
CLASS:PUBLIC
PRIORITY:5
DTSTAMP:20260423T190629Z
CREATED:20260423T190629Z
DTSTART:20260428T163000Z
SUMMARY:Inhumation de Michel CREPIN
LOCATION:Cimetière, 44210, Sainte-Marie Sur Mer
BEGIN:VALARM
TRIGGER:-PT30M
ACTION:DISPLAY
DESCRIPTION:Reminder
END:VALARM
END:VEVENT
END:VCALENDAR
