BEGIN:VCALENDAR
VERSION:2.0
METHOD:PUBLISH
CALSCALE:GREGORIAN
BEGIN:VEVENT
UID:f1f43210-82c5-42f1-a8f1-91029f9637cf
SEQUENCE:0
CLASS:PUBLIC
PRIORITY:5
DTSTAMP:20260423T190930Z
CREATED:20260423T190930Z
DTSTART:20260428T150000Z
SUMMARY:Cérémonie Religieuse  de Michel CREPIN
LOCATION:44210, Sainte-Marie Sur Mer
BEGIN:VALARM
TRIGGER:-PT30M
ACTION:DISPLAY
DESCRIPTION:Reminder
END:VALARM
END:VEVENT
END:VCALENDAR
