BEGIN:VCALENDAR
VERSION:2.0
METHOD:PUBLISH
CALSCALE:GREGORIAN
BEGIN:VEVENT
UID:991245fb-ee0b-4642-8831-29679abba8b5
SEQUENCE:0
CLASS:PUBLIC
PRIORITY:5
DTSTAMP:20260420T205626Z
CREATED:20260420T205626Z
DTSTART:20260424T093000Z
SUMMARY:dernier hommage au crématorium de Madeleine LE CLANCHE
LOCATION:crématorium de Saint Jean de Boiseau, 44640, Saint Jean de Boiseau
BEGIN:VALARM
TRIGGER:-PT30M
ACTION:DISPLAY
DESCRIPTION:Reminder
END:VALARM
END:VEVENT
END:VCALENDAR
