BEGIN:VCALENDAR
VERSION:2.0
METHOD:PUBLISH
CALSCALE:GREGORIAN
BEGIN:VEVENT
UID:d44214b9-6e86-4bf4-98f4-564779756345
SEQUENCE:0
CLASS:PUBLIC
PRIORITY:5
DTSTAMP:20260420T205743Z
CREATED:20260420T205743Z
DTSTART:20260423T153000Z
SUMMARY:Cérémonie de Madeleine LE CLANCHE
LOCATION:Chapelle Saint André de Rezé, 44400, Rezé
BEGIN:VALARM
TRIGGER:-PT30M
ACTION:DISPLAY
DESCRIPTION:Reminder
END:VALARM
END:VEVENT
END:VCALENDAR
