BEGIN:VCALENDAR
VERSION:2.0
METHOD:PUBLISH
CALSCALE:GREGORIAN
BEGIN:VEVENT
UID:4a500509-970e-48dc-9108-8809d9eae6d6
SEQUENCE:0
CLASS:PUBLIC
PRIORITY:5
DTSTAMP:20260420T205105Z
CREATED:20260420T205105Z
DTSTART:20260424T100000Z
SUMMARY:Un dernier hommage lui sera rendu de Alain TALMY
LOCATION:au Crématorium de Saint-Nazaire- Rte de la Fontaine Tuaud, 44600, Saint-Nazaire
BEGIN:VALARM
TRIGGER:-PT30M
ACTION:DISPLAY
DESCRIPTION:Reminder
END:VALARM
END:VEVENT
END:VCALENDAR
