BEGIN:VCALENDAR
VERSION:2.0
METHOD:PUBLISH
CALSCALE:GREGORIAN
BEGIN:VEVENT
UID:6f8105e6-9f65-450e-8027-04ef5d30ba07
SEQUENCE:0
CLASS:PUBLIC
PRIORITY:5
DTSTAMP:20260420T130158Z
CREATED:20260420T130158Z
DTSTART:20260424T113000Z
SUMMARY:Cérémonie de Liberto Marugan
LOCATION:Crematorium Métropolitain des landes de la Prunière, 44640, Saint Jean de Boiseau
BEGIN:VALARM
TRIGGER:-PT30M
ACTION:DISPLAY
DESCRIPTION:Reminder
END:VALARM
END:VEVENT
END:VCALENDAR
