BEGIN:VCALENDAR
VERSION:2.0
METHOD:PUBLISH
CALSCALE:GREGORIAN
BEGIN:VEVENT
UID:71dea4f3-0950-4144-8bf1-1e536b112ef1
SEQUENCE:0
CLASS:PUBLIC
PRIORITY:5
DTSTAMP:20260420T114646Z
CREATED:20260420T114646Z
DTSTART:20260423T143000Z
SUMMARY:Cérémonie de Jeannine Baron
LOCATION:Rue de l'égalité, 44220, Couëron
BEGIN:VALARM
TRIGGER:-PT30M
ACTION:DISPLAY
DESCRIPTION:Reminder
END:VALARM
END:VEVENT
END:VCALENDAR
