BEGIN:VCALENDAR
VERSION:2.0
METHOD:PUBLISH
CALSCALE:GREGORIAN
BEGIN:VEVENT
UID:32e68e0e-f1f5-440c-acf8-e5698c0804dc
SEQUENCE:0
CLASS:PUBLIC
PRIORITY:5
DTSTAMP:20260420T021048Z
CREATED:20260420T021048Z
DTSTART:20260427T100000Z
SUMMARY:la cérémonie religieuse sera célébrée de Odette BROHAN
LOCATION: Rue Adrien Pichon, Saint-Nazaire- Saint-Marc/Mer
BEGIN:VALARM
TRIGGER:-PT30M
ACTION:DISPLAY
DESCRIPTION:Reminder
END:VALARM
END:VEVENT
END:VCALENDAR
