BEGIN:VCALENDAR
VERSION:2.0
METHOD:PUBLISH
CALSCALE:GREGORIAN
BEGIN:VEVENT
UID:27b50ff8-261a-474b-b126-d71dd3678787
SEQUENCE:0
CLASS:PUBLIC
PRIORITY:5
DTSTAMP:20260420T091342Z
CREATED:20260420T091342Z
DTSTART:20260416T163000Z
SUMMARY:inhumation de Christian RICORDEAU
LOCATION:cimetière Saint Paul, 44400, Rezé
BEGIN:VALARM
TRIGGER:-PT30M
ACTION:DISPLAY
DESCRIPTION:Reminder
END:VALARM
END:VEVENT
END:VCALENDAR
