BEGIN:VCALENDAR
VERSION:2.0
METHOD:PUBLISH
CALSCALE:GREGORIAN
BEGIN:VEVENT
UID:890b69b2-0680-41e2-a9d9-7dd72dfcbfdd
SEQUENCE:0
CLASS:PUBLIC
PRIORITY:5
DTSTAMP:20260420T091424Z
CREATED:20260420T091424Z
DTSTART:20260416T150000Z
SUMMARY:Cérémonie de Christian RICORDEAU
LOCATION:Salle des cérémonies de la mairie de Rezé, place Jean-Baptiste Daviais 44400 Rezé, 44400, Rezé
BEGIN:VALARM
TRIGGER:-PT30M
ACTION:DISPLAY
DESCRIPTION:Reminder
END:VALARM
END:VEVENT
END:VCALENDAR
