BEGIN:VCALENDAR
VERSION:2.0
METHOD:PUBLISH
CALSCALE:GREGORIAN
BEGIN:VEVENT
UID:67562a06-c555-4047-a907-cbbceea51f46
SEQUENCE:0
CLASS:PUBLIC
PRIORITY:5
DTSTAMP:20260424T162806Z
CREATED:20260424T162806Z
DTSTART:20260312T150000Z
DTEND:20260310T100200Z
SUMMARY:Cérémonie religieuse de Alain GUISSEAU
LOCATION:2 rue Saint-Gilles, 44210, Pornic
BEGIN:VALARM
TRIGGER:-PT30M
ACTION:DISPLAY
DESCRIPTION:Reminder
END:VALARM
END:VEVENT
END:VCALENDAR
