BEGIN:VCALENDAR
VERSION:2.0
METHOD:PUBLISH
CALSCALE:GREGORIAN
BEGIN:VEVENT
UID:3fab68be-fb28-4ad7-ae9f-33afa009a068
SEQUENCE:0
CLASS:PUBLIC
PRIORITY:5
DTSTAMP:20260421T133031Z
CREATED:20260421T133031Z
DTSTART:20260313T103000Z
DTEND:20260307T092700Z
SUMMARY:Cérémonie de Sylvie BIORET
LOCATION:Crematorium de Nantes, 44000, Nantes
BEGIN:VALARM
TRIGGER:-PT30M
ACTION:DISPLAY
DESCRIPTION:Reminder
END:VALARM
END:VEVENT
END:VCALENDAR
