BEGIN:VCALENDAR
VERSION:2.0
METHOD:PUBLISH
CALSCALE:GREGORIAN
BEGIN:VEVENT
UID:f73520ab-5bf7-4613-968a-e58256693161
SEQUENCE:0
CLASS:PUBLIC
PRIORITY:5
DTSTAMP:20260422T162023Z
CREATED:20260422T162023Z
DTSTART:20260122T103000Z
DTEND:20260117T115100Z
SUMMARY:Inhumation de Ginette FOUCHER
LOCATION:rue du souvenir Français, 44800, Saint Herblain
BEGIN:VALARM
TRIGGER:-PT30M
ACTION:DISPLAY
DESCRIPTION:Reminder
END:VALARM
END:VEVENT
END:VCALENDAR
